BEGIN:VCALENDAR
VERSION:2.0
PRODID:-//ÖGM - ECPv4.5.4//NONSGML v1.0//EN
CALSCALE:GREGORIAN
METHOD:PUBLISH
X-WR-CALNAME:ÖGM
X-ORIGINAL-URL:http://www.oegm.org
X-WR-CALDESC:Events for ÖGM
BEGIN:VEVENT
DTSTART;TZID=UTC+1:20241119T183000
DTEND;TZID=UTC+1:20241119T200000
DTSTAMP:20260419T145640
CREATED:20241011T083400Z
LAST-MODIFIED:20241023T120524Z
UID:3829-1732041000-1732046400@www.oegm.org
SUMMARY:BUCHPRÄSENTATION
DESCRIPTION:Monika Voithofer\n(Universität Wien)\n \n„DENKEN\, HÖREN\, DA CAPO: Konzeptuelle Musik im 20. und 21. Jahrhundert“\n(Franz Steiner Verlag\, Stuttgart 2024).\n \nGrußworte und künstlerische Beiträge u.a.: Stefan Fricke und Ferdinand Schmatz.\n \nDie drei knappen Worter DENKEN\, HOREN\, DA CAPO bezeichnen intentionale (Wahrnehmungs-) Prozesse\, eine musikalische Spielanweisung und sind überdies konstitutives Element eines Werkes des Komponisten Peter Ablinger. Konkreter: DENKEN\, HOREN\, DA CAPO ist konzeptuelle Musik. Der Begriff ist ebenso problematisch wie jeder Versuch seiner fasslichen Definition. Konzeptuelle Musik ist keine Gattung\, sondern Reaktion auf musikalische Gattungskonventionen. So lässt sich dem Phänomen nur ex negativo begegnen.\nMonika Voithofer erarbeitet in ihrer Studie erstmals eine umfassende Darstellung der transatlantischen Geschichte und Ästhetik von konzeptueller Musik im 20. und 21. Jahrhundert. Sie leistet damit eine methodische\, fachterminologische und institutionengeschichtliche Ergänzung der Erforschung von konzeptuellen Praktiken aus musikwissenschaftlicher Perspektive. Anhand eines repräsentativen Werkkorpus analysiert die Autorin detailliert theoretische wie künstlerische Positionen zur Genealogie\, Materialitat\, Form und Semantik\, um allzu dichotomisch bemühte Narrative - etwa Fluxus vs. Conceptual Art\, experimentell vs. seriell oder ästhetisch vs. konzeptuell - zu revidieren.
URL:http://www.oegm.org/event/buchpraesentation-15/
LOCATION:Hanuschgasse 3\, Wien\, 1010\, Österreich
END:VEVENT
END:VCALENDAR