BEGIN:VCALENDAR
VERSION:2.0
PRODID:-//ÖGM - ECPv4.5.4//NONSGML v1.0//EN
CALSCALE:GREGORIAN
METHOD:PUBLISH
X-WR-CALNAME:ÖGM
X-ORIGINAL-URL:http://www.oegm.org
X-WR-CALDESC:Events for ÖGM
BEGIN:VEVENT
DTSTART;TZID=UTC+1:20241023T180000
DTEND;TZID=UTC+1:20241023T193000
DTSTAMP:20260419T212538
CREATED:20240910T192044Z
LAST-MODIFIED:20240925T075812Z
UID:3792-1729706400-1729711800@www.oegm.org
SUMMARY:BUCHPRÄSENTATION UND VORTRAG
DESCRIPTION:Mittwoch\, 23. Oktober\, 18:00 Uhr BUCHPRÄSENTATION UND VORTRAG\nElisabeth Maier\n(Wien)\n„Anton Bruckner. Blicke auf ein Leben“.\nMusikwissenschaftlicher Verlag\, Wien 2024. 464 S.\nMit Musikbeispielen.\n \nMit zahlreichen Einblicken in Bruckners Umfeld und Lebenswelt entsteht ein faszinierendes Panorama seiner Zeit\, der damaligen Lebensverhältnisse und kulturgeschichtlichen Ereignisse.\nDer Band folgt weitgehend dem Lebenslauf Bruckners in Verbindung mit der Entstehungs- und Rezeptionsgeschichte seiner Werke\, wobei vor allem die Symphonien im Vordergrund stehen.
URL:http://www.oegm.org/event/buchpraesentation-und-vortrag-6/
LOCATION:Hanuschgasse 3\, Wien\, 1010\, Österreich
END:VEVENT
END:VCALENDAR