BEGIN:VCALENDAR
VERSION:2.0
PRODID:-//ÖGM - ECPv4.5.4//NONSGML v1.0//EN
CALSCALE:GREGORIAN
METHOD:PUBLISH
X-WR-CALNAME:ÖGM
X-ORIGINAL-URL:http://www.oegm.org
X-WR-CALDESC:Events for ÖGM
BEGIN:VEVENT
DTSTART;TZID=UTC+1:20220428T180000
DTEND;TZID=UTC+1:20220428T190000
DTSTAMP:20260421T142810
CREATED:20220307T151608Z
LAST-MODIFIED:20220307T151608Z
UID:3439-1651168800-1651172400@www.oegm.org
SUMMARY:BUCHPRÄSENTATION und VORTRAG
DESCRIPTION:Gemeinsam mit dem Verein der Salzburger in Wien\nSalzburg im Blickfeld \nDie Autorinnen Sarah Haslinger\, Karina Zybina und die HerausgeberInnen Siegrid Schmidt und Thomas Hochradner präsentieren vier Publikationen der Institution „Arbeitsschwerpunkt Salzburger Musikgeschichte am Department für Musikwissenschaft“ (Universität Mozarteum Salzburg)\nMit Musikbeispielen.
URL:http://www.oegm.org/event/buchpraesentation-und-vortrag/
LOCATION:Hanuschgasse 3\, Wien\, 1010\, Österreich
END:VEVENT
END:VCALENDAR