BEGIN:VCALENDAR
VERSION:2.0
PRODID:-//ÖGM - ECPv4.5.4//NONSGML v1.0//EN
CALSCALE:GREGORIAN
METHOD:PUBLISH
X-WR-CALNAME:ÖGM
X-ORIGINAL-URL:http://www.oegm.org
X-WR-CALDESC:Events for ÖGM
BEGIN:VEVENT
DTSTART;TZID=UTC+1:20220427T173000
DTEND;TZID=UTC+1:20220427T190000
DTSTAMP:20260421T155523
CREATED:20220307T151433Z
LAST-MODIFIED:20220307T151449Z
UID:3436-1651080600-1651086000@www.oegm.org
SUMMARY:CD-PRÄSENTATION mit LIVE-MUSIK
DESCRIPTION:Auner-Quartett\nDaniel Auner und Barbara Galante-Auner (Violine)\, Nikita Gerkusov (Viola)\, Konstantin Zelenin (Violoncello).\nWerke von A. Zemlinsky\, E. Wellesz\, A. Webern\, Fr. Kreisler. (GRAMOLA Vienna\, 9922O)\nDie MusikerInnen im Gespräch mit Carmen Ottner.\nMusikbeispiele mit Live-Musik.
URL:http://www.oegm.org/event/cd-praesentation-4/
LOCATION:Hanuschgasse 3\, Wien\, 1010\, Österreich
END:VEVENT
END:VCALENDAR