BEGIN:VCALENDAR
VERSION:2.0
PRODID:-//ÖGM - ECPv4.5.4//NONSGML v1.0//EN
CALSCALE:GREGORIAN
METHOD:PUBLISH
X-WR-CALNAME:ÖGM
X-ORIGINAL-URL:http://www.oegm.org
X-WR-CALDESC:Events for ÖGM
BEGIN:VEVENT
DTSTART;TZID=UTC+1:20231212T180000
DTEND;TZID=UTC+1:20231212T193000
DTSTAMP:20260421T163305
CREATED:20231102T122352Z
LAST-MODIFIED:20231102T122352Z
UID:3676-1702404000-1702409400@www.oegm.org
SUMMARY:CD-PRÄSENTATION
DESCRIPTION:Walter Auer\, Flöte\n(Mitglied der Wiener Philharmoniker\, des Wiener Staatsopernorchesters)\nJanez Gregorič\, Gitarre\n(Komponist\, Gründer der Internationalen Kammermusikwerkstatt „Sonus“; Klagenfurt)\n„Segue“: Werke von Luna Alcalay\, Claude Debussy\, Janez Gregorič\, Astor Piazzolla. („Sonus“\, Klagenfurt 2023).\nIm Gespräch mit Walburga Litschauer.
URL:http://www.oegm.org/event/cd-praesentation-6/
LOCATION:Hanuschgasse 3\, Wien\, 1010\, Österreich
END:VEVENT
END:VCALENDAR