BEGIN:VCALENDAR
VERSION:2.0
PRODID:-//ÖGM - ECPv4.5.4//NONSGML v1.0//EN
CALSCALE:GREGORIAN
METHOD:PUBLISH
X-WR-CALNAME:ÖGM
X-ORIGINAL-URL:http://www.oegm.org
X-WR-CALDESC:Events for ÖGM
BEGIN:VEVENT
DTSTART;TZID=UTC+1:20220504T180000
DTEND;TZID=UTC+1:20220504T193000
DTSTAMP:20260421T115056
CREATED:20220425T132522Z
LAST-MODIFIED:20220425T132522Z
UID:3444-1651687200-1651692600@www.oegm.org
SUMMARY:CD-PRÄSENTATION + LIVE-MUSIK
DESCRIPTION:„Bacchiana – A Solo Cello Fantasy“\nKompositionen von J. S. Bach\, Johanna Doderer\, Gabriele Proy\, Doina Rotaru\, Kaija Saariaho und Ana Topalovic.\n(Hänssler Classic\, HC21OO7)\n Ana Topalovic (Violoncello)\, Gabriele Proy (Komponistin)\nim Gespräch mit Carmen Ottner.\nLive-Musik mit Ana Topalovic (Violoncello).
URL:http://www.oegm.org/event/cd-praesentation-live-musik-2/
LOCATION:Hanuschgasse 3\, Wien\, 1010\, Österreich
END:VEVENT
END:VCALENDAR