BEGIN:VCALENDAR
VERSION:2.0
PRODID:-//ÖGM - ECPv4.5.4//NONSGML v1.0//EN
CALSCALE:GREGORIAN
METHOD:PUBLISH
X-WR-CALNAME:ÖGM
X-ORIGINAL-URL:http://www.oegm.org
X-WR-CALDESC:Events for ÖGM
BEGIN:VEVENT
DTSTART;TZID=UTC+1:20220110T180000
DTEND;TZID=UTC+1:20220110T193000
DTSTAMP:20260421T103417
CREATED:20211209T084658Z
LAST-MODIFIED:20211209T085452Z
UID:3384-1641837600-1641843000@www.oegm.org
SUMMARY:EINFÜHRUNGSVORTRAG
DESCRIPTION: Christian Glanz\n(Universität für Musik und darstellende Kunst Wien)\nKurt Weills „Musical Play“: „Lady in the Dark“\n \nZur Premiere in der Volksoper am 13. Dezember 2021\nMit Musikbeispielen.\nMit der Bitte um Sitzplatzreservierung unter office@oegm.org\, sowie Einhaltungen der offiziellen Corona-Regelungen -> Aktuelle Regelungen sind auf unserer Startseite zu finden.
URL:http://www.oegm.org/event/einfuehrungsvortrag-10/
LOCATION:Hanuschgasse 3\, Wien\, 1010\, Österreich
END:VEVENT
END:VCALENDAR