BEGIN:VCALENDAR
VERSION:2.0
PRODID:-//ÖGM - ECPv4.5.4//NONSGML v1.0//EN
CALSCALE:GREGORIAN
METHOD:PUBLISH
X-WR-CALNAME:ÖGM
X-ORIGINAL-URL:http://www.oegm.org
X-WR-CALDESC:Events for ÖGM
BEGIN:VEVENT
DTSTART;TZID=UTC+1:20220510T180000
DTEND;TZID=UTC+1:20220510T193000
DTSTAMP:20260421T155437
CREATED:20220425T132934Z
LAST-MODIFIED:20220425T132934Z
UID:3448-1652205600-1652211000@www.oegm.org
SUMMARY:EINFÜHRUNGSVORTRAG
DESCRIPTION:Walter Weidringer\n(Wien)\n„… an evil opera“: Benjamin Brittens „Death in Venice“. \nZur Premiere am 14. Mai in der Wiener Volksoper.\nMit Musikbeispielen.
URL:http://www.oegm.org/event/einfuehrungsvortrag-12/
LOCATION:Hanuschgasse 3\, Wien\, 1010\, Österreich
END:VEVENT
END:VCALENDAR