BEGIN:VCALENDAR
VERSION:2.0
PRODID:-//ÖGM - ECPv4.5.4//NONSGML v1.0//EN
CALSCALE:GREGORIAN
METHOD:PUBLISH
X-WR-CALNAME:ÖGM
X-ORIGINAL-URL:http://www.oegm.org
X-WR-CALDESC:Events for ÖGM
BEGIN:VEVENT
DTSTART;TZID=UTC+1:20220928T180000
DTEND;TZID=UTC+1:20220928T193000
DTSTAMP:20260421T120004
CREATED:20220823T172812Z
LAST-MODIFIED:20220905T181336Z
UID:3476-1664388000-1664393400@www.oegm.org
SUMMARY:EINFÜHRUNGSVORTRAG
DESCRIPTION:Christian Glanz\n (Universität für Musik und darstellende Kunst Wien)\nGustav Mahlers „Das klagende Lied“ und „Kindertotenlieder“ \n(„Von der Liebe Tod“)\nZur Premiere am 29. September in der Wiener Staatsoper.\nMit Musikbeispielen.\n \nAnmerkung um eventuelle Verwirrungen zu vermeiden: Es war zu Beginn ein falsches Datum auf der Website für diese Veranstaltung hinterlegt. Der Vortrag findet\, wie jetzt angegeben\, am 28. September statt!
URL:http://www.oegm.org/event/einfuehrungsvortrag-13/
LOCATION:Hanuschgasse 3\, Wien\, 1010\, Österreich
END:VEVENT
END:VCALENDAR