BEGIN:VCALENDAR
VERSION:2.0
PRODID:-//ÖGM - ECPv4.5.4//NONSGML v1.0//EN
CALSCALE:GREGORIAN
METHOD:PUBLISH
X-WR-CALNAME:ÖGM
X-ORIGINAL-URL:http://www.oegm.org
X-WR-CALDESC:Events for ÖGM
BEGIN:VEVENT
DTSTART;TZID=UTC+1:20241007T180000
DTEND;TZID=UTC+1:20241007T193000
DTSTAMP:20260419T230533
CREATED:20240910T191631Z
LAST-MODIFIED:20240925T075231Z
UID:3783-1728324000-1728329400@www.oegm.org
SUMMARY:EINFÜHRUNGSVORTRAG
DESCRIPTION:Montag\, 7. Oktober\, 18:00 Uhr EINFÜHRUNGSVORTRAG\nChristian Utz\n(Universität für Musik und darstellende Kunst Graz; Präsident der Internationalen\nGustav Mahler Gesellschaft)\n„Inszenierung von Sprachlosigkeit: György Kurtágs ´Fin de partie\, scènes et monologues\, opéra en\nun acte´nach Becketts ´Fin de Partie´(1957)“.\nZur Premiere in der Wiener Staatsoper am 16. Oktober 2024.\nMit Musikbeispielen.\n \nDer Vortrag führt in György Kurtágs Beckett-Oper Fin de partie ein\, die\, nach der Uraufführung an der Mailänder Scala im November 2018 und zahlreichen Produktionen u. a. in Amsterdam\, Paris\, London und New York\, am 16. Oktober 2024 an der Wiener Staatsoper in einer Neuinszenierung herausgebracht wird. Kurtágs lebenslang sich entwickelndes suchendes\, mäanderndes Komponieren fand seit den frühen 1990er Jahren in Becketts grenzenlosem Schreiben eine kongeniale Entsprechung. Die Neigung zum Verstummen\, zur (musikalischen oder literarischen) Sprachlosigkeit wird in ein Idiom der textnahen Sprachsuche verwandelt\, wobei es auch immer wieder zu jenen für Kurtág charakteristisch dramatischen Ausbrüchen und Zuspitzungen kommt\, die der an Becketts Drama orientierten\, schwer überblickbaren Form der Oper immer wieder plastisch herausgehobene Momente verleihen.
URL:http://www.oegm.org/event/einfuehrungsvortrag-27/
LOCATION:Hanuschgasse 3\, Wien\, 1010\, Österreich
END:VEVENT
END:VCALENDAR