BEGIN:VCALENDAR
VERSION:2.0
PRODID:-//ÖGM - ECPv4.5.4//NONSGML v1.0//EN
CALSCALE:GREGORIAN
METHOD:PUBLISH
X-WR-CALNAME:ÖGM
X-ORIGINAL-URL:http://www.oegm.org
X-WR-CALDESC:Events for ÖGM
BEGIN:VEVENT
DTSTART;TZID=UTC+1:20170427T180000
DTEND;TZID=UTC+1:20170427T190000
DTSTAMP:20260422T190349
CREATED:20170321T104631Z
LAST-MODIFIED:20170517T090831Z
UID:2040-1493316000-1493319600@www.oegm.org
SUMMARY:EINFÜHRUNGSVORTRAG Oswald Panagl
DESCRIPTION:aus der Reihe: Oper in Wien\n\nOswald Panagl (Universität Salzburg)\n\nMenschliches Unheil und dichterische Inspiration\nGedanken zu Hans Werner Henzes Elegie für junge Liebende\n\nZur Premiere am Theater an der Wien am 02.05.2017\n\nMit Musikbeispielen.\n\n 
URL:http://www.oegm.org/event/einfuehrungsvortrag-oswald-panagl/
LOCATION:Hanuschgasse 3\, Wien\, 1010\, Österreich
END:VEVENT
END:VCALENDAR