BEGIN:VCALENDAR
VERSION:2.0
PRODID:-//ÖGM - ECPv4.5.4//NONSGML v1.0//EN
CALSCALE:GREGORIAN
METHOD:PUBLISH
X-WR-CALNAME:ÖGM
X-ORIGINAL-URL:http://www.oegm.org
X-WR-CALDESC:Events for ÖGM
BEGIN:VEVENT
DTSTART;TZID=UTC+1:20220512T180000
DTEND;TZID=UTC+1:20220512T193000
DTSTAMP:20260421T161220
CREATED:20220425T133034Z
LAST-MODIFIED:20220426T070100Z
UID:3450-1652378400-1652383800@www.oegm.org
SUMMARY:GESPRÄCH
DESCRIPTION:Die neuen Direktoren Benedikt Lodes und Johannes Prominczel der Musiksammlung der Österreichischen Nationalbibliothek; des Archivs\, der Bibliothek und der Sammlungen der Gesellschaft der Musikfreunde in Wien stellen sich vor und geben Aus- und Einblicke in ihre Sammlungen.\nModeration: Carmen Ottner\nMit Musikbeispielen.
URL:http://www.oegm.org/event/gespraech-3/
LOCATION:Hanuschgasse 3\, Wien\, 1010\, Österreich
END:VEVENT
END:VCALENDAR