BEGIN:VCALENDAR
VERSION:2.0
PRODID:-//ÖGM - ECPv4.5.4//NONSGML v1.0//EN
CALSCALE:GREGORIAN
METHOD:PUBLISH
X-WR-CALNAME:ÖGM
X-ORIGINAL-URL:http://www.oegm.org
X-WR-CALDESC:Events for ÖGM
BEGIN:VEVENT
DTSTART;TZID=UTC+1:20240111T180000
DTEND;TZID=UTC+1:20240111T193000
DTSTAMP:20260421T150307
CREATED:20231212T180612Z
LAST-MODIFIED:20231212T180612Z
UID:3684-1704996000-1705001400@www.oegm.org
SUMMARY:GESPRÄCH
DESCRIPTION:Anlässlich des 90. Geburtstags von\nClemens Höslinger\n(Bibliothekar\, Musikschriftsteller\, Musikkritiker\, Wien)\n\nIm Gespräch mit Robert Holl\n(Kammersänger; emer. Prof. an der Universität für Musik und darstellende Kunst Wien)\n\nMit Musikbeispielen.
URL:http://www.oegm.org/event/gespraech-6/
LOCATION:Hanuschgasse 3\, Wien\, 1010\, Österreich
END:VEVENT
END:VCALENDAR