BEGIN:VCALENDAR
VERSION:2.0
PRODID:-//ÖGM - ECPv4.5.4//NONSGML v1.0//EN
CALSCALE:GREGORIAN
METHOD:PUBLISH
X-WR-CALNAME:ÖGM
X-ORIGINAL-URL:http://www.oegm.org
X-WR-CALDESC:Events for ÖGM
BEGIN:VEVENT
DTSTART;TZID=UTC+1:20240506T180000
DTEND;TZID=UTC+1:20240506T193000
DTSTAMP:20260421T091210
CREATED:20240409T135208Z
LAST-MODIFIED:20240409T135208Z
UID:3751-1715018400-1715023800@www.oegm.org
SUMMARY:GITARRENABEND
DESCRIPTION:Montag\, 6. Mai\, 18:00 Uhr KONZERT\nGitarrenabend\nMit StudentInnen der Klasse von Univ. Prof. Alvaro Pierri\n(Universität für Musik und darstellende Kunst Wien)\nMizuki Osawa\, Terézia Hulková\, Kamil Anioł\, Hanna Zielińska\, Matej Berlot\, Duo Hej.\nKompositionen von: J. S. Bach\, Mario Castelnuovo-Tedesco\, Manuel de Falla\,\nMauro Giuliani\, Enrique Granados\, Johann Kaspar Mertz\, Carlos Rafael Rivera.
URL:http://www.oegm.org/event/gitarrenabend/
LOCATION:Hanuschgasse 3\, Wien\, 1010\, Österreich
END:VEVENT
END:VCALENDAR