BEGIN:VCALENDAR
VERSION:2.0
PRODID:-//ÖGM - ECPv4.5.4//NONSGML v1.0//EN
CALSCALE:GREGORIAN
METHOD:PUBLISH
X-WR-CALNAME:ÖGM
X-ORIGINAL-URL:http://www.oegm.org
X-WR-CALDESC:Events for ÖGM
BEGIN:VEVENT
DTSTART;TZID=UTC+1:20170330T160000
DTEND;TZID=UTC+1:20170330T200000
DTSTAMP:20260422T090115
CREATED:20170131T165559Z
LAST-MODIFIED:20170517T092904Z
UID:2005-1490889600-1490904000@www.oegm.org
SUMMARY:INTERDISZIPLINÄRES SYMPOSION
DESCRIPTION:"die nichtsgewisseste Musik\, die ich kenne"\n\nElfriede Jelinek & Franz Schubert\n\n \n\nVeranstaltet von der Forschungsplattform Elfriede Jelinek und dem Elfriede Jelinek-Forschungszentrum in Kooperation mit Österreichischen Gesellschaft für Musik\n\nDie vielfältigen Bezüge der österreichischen Nobelpreisträgerin Elfriede Jelinek zu ihrem Lieblingskomponisten Franz Schubert\n\nMitwirkende: Bernd Roger Bienert\, Pia Janke\, Monika Meister\, Christian Schenkermayer\, Mathias Spohr\, Melanie Unseld\, Susanne Vill\, Gerrit Waidelich.\n\nMit Musik und Lesungen (Dorothee Hartinger\, Burgtheater).\n\nGenauere Informationen zum Programm finden Sie unter: https://fpjelinek.univie.ac.at/veranstaltungen/symposium-jelinek-und-schubert-2017/\n\n 
URL:http://www.oegm.org/event/interdisziplinaeres-symposion/
LOCATION:Hanuschgasse 3\, Wien\, 1010\, Österreich
END:VEVENT
END:VCALENDAR