BEGIN:VCALENDAR
VERSION:2.0
PRODID:-//ÖGM - ECPv4.5.4//NONSGML v1.0//EN
CALSCALE:GREGORIAN
METHOD:PUBLISH
X-WR-CALNAME:ÖGM
X-ORIGINAL-URL:http://www.oegm.org
X-WR-CALDESC:Events for ÖGM
BEGIN:VEVENT
DTSTART;TZID=UTC+1:20240606T180000
DTEND;TZID=UTC+1:20240606T193000
DTSTAMP:20260420T073210
CREATED:20240527T082631Z
LAST-MODIFIED:20240527T082631Z
UID:3765-1717696800-1717702200@www.oegm.org
SUMMARY:Komponistenportrait
DESCRIPTION:Donnerstag\, 6. Juni\, 18:00 Uhr KOMPONISTENPORTRAIT\nAnlässlich des 70. Geburtstags von Ulf-Diether Soyka\n(Wien)\nMikrotonsatz – Konzerte und Homerecording.\nDer Komponist im Gespräch mit Wolfram Wagner.\nMit Noten- und Hörbeispielen.
URL:http://www.oegm.org/event/komponistenportrait-13/
LOCATION:Hanuschgasse 3\, Wien\, 1010\, Österreich
END:VEVENT
END:VCALENDAR