BEGIN:VCALENDAR
VERSION:2.0
PRODID:-//ÖGM - ECPv4.5.4//NONSGML v1.0//EN
CALSCALE:GREGORIAN
METHOD:PUBLISH
X-WR-CALNAME:ÖGM
X-ORIGINAL-URL:http://www.oegm.org
X-WR-CALDESC:Events for ÖGM
BEGIN:VEVENT
DTSTART;TZID=UTC+1:20200928T190000
DTEND;TZID=UTC+1:20200928T203000
DTSTAMP:20260422T105750
CREATED:20200821T160951Z
LAST-MODIFIED:20200821T161214Z
UID:3170-1601319600-1601325000@www.oegm.org
SUMMARY:KONZERT
DESCRIPTION:David Strbac (Gitarre)\n \nGäste: Yuka Blickensdoerfer (Klavier) und Dalma Sarnyai (Altflöte).\nMit Musik von Sor\, Villa-Lobos\, J. S. Bach\, Regondi\, Takemitsu\, Brouwer.
URL:http://www.oegm.org/event/konzert-45/
LOCATION:Hanuschgasse 3\, Wien\, 1010\, Österreich
END:VEVENT
END:VCALENDAR