BEGIN:VCALENDAR
VERSION:2.0
PRODID:-//ÖGM - ECPv4.5.4//NONSGML v1.0//EN
CALSCALE:GREGORIAN
METHOD:PUBLISH
X-WR-CALNAME:ÖGM
X-ORIGINAL-URL:http://www.oegm.org
X-WR-CALDESC:Events for ÖGM
BEGIN:VEVENT
DTSTART;TZID=UTC+1:20220503T180000
DTEND;TZID=UTC+1:20220503T193000
DTSTAMP:20260421T130244
CREATED:20220425T132239Z
LAST-MODIFIED:20220425T132239Z
UID:3442-1651600800-1651606200@www.oegm.org
SUMMARY:KONZERT
DESCRIPTION:„Cross Atlantic Trio“\nDie Gitarristen David Strbac\, Nejc Pirnat und William Marcil-Bouchard.\nKompositionen von Toru Takemitsu\, Joaquin Turina\, Manuel de Falla\, Isaac Albeniz.
URL:http://www.oegm.org/event/konzert-57/
LOCATION:Hanuschgasse 3\, Wien\, 1010\, Österreich
END:VEVENT
END:VCALENDAR