BEGIN:VCALENDAR
VERSION:2.0
PRODID:-//ÖGM - ECPv4.5.4//NONSGML v1.0//EN
CALSCALE:GREGORIAN
METHOD:PUBLISH
X-WR-CALNAME:ÖGM
X-ORIGINAL-URL:http://www.oegm.org
X-WR-CALDESC:Events for ÖGM
BEGIN:VEVENT
DTSTART;TZID=UTC+1:20220524T180000
DTEND;TZID=UTC+1:20220524T193000
DTSTAMP:20260421T174357
CREATED:20220425T133146Z
LAST-MODIFIED:20220425T133146Z
UID:3452-1653415200-1653420600@www.oegm.org
SUMMARY:KONZERT
DESCRIPTION:„Cross Atlantic Trio“\nDie Gitarristen David Strbac\, Nejc Pirnat und William Marcil-Bouchard.\nKompositionen von J. S. Bach\, Mauro Giuliani\, Darius Milhaud\, Paulo Bellinati.
URL:http://www.oegm.org/event/konzert-58/
LOCATION:Hanuschgasse 3\, Wien\, 1010\, Österreich
END:VEVENT
END:VCALENDAR