BEGIN:VCALENDAR
VERSION:2.0
PRODID:-//ÖGM - ECPv4.5.4//NONSGML v1.0//EN
CALSCALE:GREGORIAN
METHOD:PUBLISH
X-WR-CALNAME:ÖGM
X-ORIGINAL-URL:http://www.oegm.org
X-WR-CALDESC:Events for ÖGM
BEGIN:VEVENT
DTSTART;TZID=UTC+1:20241015T181500
DTEND;TZID=UTC+1:20241015T200000
DTSTAMP:20260420T001744
CREATED:20240910T191856Z
LAST-MODIFIED:20240910T191856Z
UID:3788-1729016100-1729022400@www.oegm.org
SUMMARY:KÜNSTLERPORTRAIT
DESCRIPTION:Dienstag\, 15. Oktober\, Achtung! 18:15 Uhr KÜNSTLERPORTRAIT\nDaniel Froschauer\n(Violine\, Mitglied und Vorstand der Wiener Philharmoniker\, des Staatsopernorchesters\,\nKammermusiker)\nIm Gespräch mit Clemens Hellsberg\n(Violine\, ehemaliger Vorstand der Wiener Philharmoniker\, Mitglied des Staatsopernorchesters i. R.\,\nMusikwissenschafter).\nMit Musikbeispielen.
URL:http://www.oegm.org/event/kuenstlerportrait-3/
LOCATION:Hanuschgasse 3\, Wien\, 1010\, Österreich
END:VEVENT
END:VCALENDAR