BEGIN:VCALENDAR
VERSION:2.0
PRODID:-//ÖGM - ECPv4.5.4//NONSGML v1.0//EN
CALSCALE:GREGORIAN
METHOD:PUBLISH
X-WR-CALNAME:ÖGM
X-ORIGINAL-URL:http://www.oegm.org
X-WR-CALDESC:Events for ÖGM
BEGIN:VEVENT
DTSTART;TZID=UTC+1:20231204T180000
DTEND;TZID=UTC+1:20231204T193000
DTSTAMP:20260421T204126
CREATED:20231102T122005Z
LAST-MODIFIED:20231102T122005Z
UID:3670-1701712800-1701718200@www.oegm.org
SUMMARY:KÜNSTLERPORTRAIT + CD-PRÄSENTATION
DESCRIPTION:Gottlieb Wallisch\n(Wien-Berlin; Universität der Künste Berlin)\n5 CD-Aufnahmen mit Foxtrott-Kompositionen für Klavier aus dem 20. Jahrhundert. CD 1: Tschechien; 2: Deutschland; 3: Zentral- und Osteuropa; 4: Frankreich und Belgien; 5: Schweiz.\nMit Werken u.a. von Paul Hindemith\, Ernst Krenek\, Kurt Weill\, Wiederentdeckungen von vergessenen oder vertriebenen Komponist*innen (z. B. der Wiener Wilhelm Grosz). („Grand Piano Records“\, Naxos\, Hongkong).\nIm Gespräch mit Carmen Ottner.
URL:http://www.oegm.org/event/kuenstlerportrait-cd-praesentation/
LOCATION:Hanuschgasse 3\, Wien\, 1010\, Österreich
END:VEVENT
END:VCALENDAR