BEGIN:VCALENDAR
VERSION:2.0
PRODID:-//ÖGM - ECPv4.5.4//NONSGML v1.0//EN
CALSCALE:GREGORIAN
METHOD:PUBLISH
X-WR-CALNAME:ÖGM
X-ORIGINAL-URL:http://www.oegm.org
X-WR-CALDESC:Events for ÖGM
BEGIN:VEVENT
DTSTART;TZID=UTC+1:20160309T180000
DTEND;TZID=UTC+1:20160309T190000
DTSTAMP:20260421T114838
CREATED:20160208T093153Z
LAST-MODIFIED:20160316T152537Z
UID:1266-1457546400-1457550000@www.oegm.org
SUMMARY:KÜNSTLERPORTRAIT Familie Hellsberg
DESCRIPTION:Clemens Hellsberg (Violine; Vorstand der Wiener Philharmoniker i.R.) mit seinen Söhnen Dominik (Violine; Wiener Staatsopernorchester\, Wiener Philharmoniker) und Benedikt (Violoncello; Student am Joseph-Haydn-Konservatorium Eisenstadt) im Gespräch mit Carmen Ottner.\n\nMit Musikbeispielen\n\nAus der Reihe: Musikerfamilien\n\n \n\n
URL:http://www.oegm.org/event/kuenstlerportrait-familie-hellsberg/
LOCATION:Hanuschgasse 3\, Wien\, 1010\, Österreich
END:VEVENT
END:VCALENDAR