BEGIN:VCALENDAR
VERSION:2.0
PRODID:-//ÖGM - ECPv4.5.4//NONSGML v1.0//EN
CALSCALE:GREGORIAN
METHOD:PUBLISH
X-WR-CALNAME:ÖGM
X-ORIGINAL-URL:http://www.oegm.org
X-WR-CALDESC:Events for ÖGM
BEGIN:VEVENT
DTSTART;TZID=UTC+1:20170516T180000
DTEND;TZID=UTC+1:20170516T190000
DTSTAMP:20260422T232505
CREATED:20170426T082052Z
LAST-MODIFIED:20170517T090236Z
UID:2046-1494957600-1494961200@www.oegm.org
SUMMARY:KÜNSTLERPORTRAIT Khadem-Missagh
DESCRIPTION:aus der Reihe: Musikerfamilien. Bijan (Violinist\, Komponist\, Dirigent; Gründer des Int. Kammermusikfestivals "Allegro Vivo")\, Tochter Dorothy (Pianistin) und Sohn Vahid (Konzertmeister / Tonkünstler-Orchester N. Ö.\, Leiter "Allegro Vivo"\, Musikwissenschaftler) im Gespräch mit Carmen Ottner. Mit Live-Musik.
URL:http://www.oegm.org/event/kuenstlerportrait-khadem-missagh/
LOCATION:Hanuschgasse 3\, Wien\, 1010\, Österreich
END:VEVENT
END:VCALENDAR