BEGIN:VCALENDAR
VERSION:2.0
PRODID:-//ÖGM - ECPv4.5.4//NONSGML v1.0//EN
CALSCALE:GREGORIAN
METHOD:PUBLISH
X-WR-CALNAME:ÖGM
X-ORIGINAL-URL:http://www.oegm.org
X-WR-CALDESC:Events for ÖGM
BEGIN:VEVENT
DTSTART;TZID=UTC+1:20170502T180000
DTEND;TZID=UTC+1:20170502T190000
DTSTAMP:20260422T202717
CREATED:20170412T090618Z
LAST-MODIFIED:20170517T085931Z
UID:2044-1493748000-1493751600@www.oegm.org
SUMMARY:KÜNSTLERPORTRAIT Peter Planyavsky
DESCRIPTION:Anlässlich des 70. Geburtstags von Peter Planyavsky. Der Organist\, Komponist\, Autor und Pädagoge im Gespräch mit Carmen Ottner. Mit Musikbeispielen.
URL:http://www.oegm.org/event/kuenstlerportrait-peter-planyavsky/
LOCATION:Hanuschgasse 3\, Wien\, 1010\, Österreich
END:VEVENT
END:VCALENDAR