BEGIN:VCALENDAR
VERSION:2.0
PRODID:-//ÖGM - ECPv4.5.4//NONSGML v1.0//EN
CALSCALE:GREGORIAN
METHOD:PUBLISH
X-WR-CALNAME:ÖGM
X-ORIGINAL-URL:http://www.oegm.org
X-WR-CALDESC:Events for ÖGM
BEGIN:VEVENT
DTSTART;TZID=UTC+1:20160928T180000
DTEND;TZID=UTC+1:20160928T190000
DTSTAMP:20260421T154034
CREATED:20160914T125217Z
LAST-MODIFIED:20161019T082218Z
UID:1795-1475085600-1475089200@www.oegm.org
SUMMARY:KÜNSTLERPORTRAIT Yutaka Sado
DESCRIPTION:Yutaka Sado (Chefdirigent des Tonkünstler-Orchesters) im Gespräch mit Frank Druschel (Geschäftsführer des Orchesters).\n\nMit Ausschnitten der neuen CDs des Tonkünstler-Labels.\n\n \n\n
URL:http://www.oegm.org/event/kuenstlerportrait-yutaka-sado/
LOCATION:Hanuschgasse 3\, Wien\, 1010\, Österreich
END:VEVENT
END:VCALENDAR