BEGIN:VCALENDAR
VERSION:2.0
PRODID:-//ÖGM - ECPv4.5.4//NONSGML v1.0//EN
CALSCALE:GREGORIAN
METHOD:PUBLISH
X-WR-CALNAME:ÖGM
X-ORIGINAL-URL:http://www.oegm.org
X-WR-CALDESC:Events for ÖGM
BEGIN:VEVENT
DTSTART;TZID=UTC+1:20160621T160000
DTEND;TZID=UTC+1:20160621T170000
DTSTAMP:20260421T150000
CREATED:20160425T085222Z
LAST-MODIFIED:20160425T085222Z
UID:1541-1466524800-1466528400@www.oegm.org
SUMMARY:NACHMITTAGSKONZERT
DESCRIPTION:Dorothy Khadem-Missagh (Klavier) spielt Werke von Ludwig van Beethoven\n\n \n\ngemeinsam mit der Béla Bartók internationalen Musikgesellschaft\n\n \n\n 
URL:http://www.oegm.org/event/nachmittagskonzert/
LOCATION:Hanuschgasse 3\, Wien\, 1010\, Österreich
END:VEVENT
END:VCALENDAR