BEGIN:VCALENDAR
VERSION:2.0
PRODID:-//ÖGM - ECPv4.5.4//NONSGML v1.0//EN
CALSCALE:GREGORIAN
METHOD:PUBLISH
X-WR-CALNAME:ÖGM
X-ORIGINAL-URL:http://www.oegm.org
X-WR-CALDESC:Events for ÖGM
BEGIN:VEVENT
DTSTART;TZID=UTC+1:20231206T180000
DTEND;TZID=UTC+1:20231206T193000
DTSTAMP:20260421T192637
CREATED:20231102T122118Z
LAST-MODIFIED:20231102T122118Z
UID:3672-1701885600-1701891000@www.oegm.org
SUMMARY:NOTENBAND-PRÄSENTATION + VORTRAG
DESCRIPTION:Klaus Lippe\n(Alban Berg Stiftung Wien)\n„Visuelle Aspekte der Wozzeck-Partitur“.\nNeuerscheinung in der Ausgabe: „Sämtliche Werke Alban Bergs“. (Universal Edition\, Wien).\nMit Noten- und Musikbeispielen.
URL:http://www.oegm.org/event/notenband-praesentation-vortrag/
LOCATION:Hanuschgasse 3\, Wien\, 1010\, Österreich
END:VEVENT
END:VCALENDAR