BEGIN:VCALENDAR
VERSION:2.0
PRODID:-//ÖGM - ECPv4.5.4//NONSGML v1.0//EN
CALSCALE:GREGORIAN
METHOD:PUBLISH
X-WR-CALNAME:ÖGM
X-ORIGINAL-URL:http://www.oegm.org
X-WR-CALDESC:Events for ÖGM
BEGIN:VEVENT
DTSTART;TZID=UTC+1:20160121T180000
DTEND;TZID=UTC+1:20160121T193000
DTSTAMP:20260421T144326
CREATED:20160106T143800Z
LAST-MODIFIED:20160222T103348Z
UID:1160-1453399200-1453404600@www.oegm.org
SUMMARY:PORTRAITKONZERT Iván Eröd
DESCRIPTION:Konzert zum 80. Geburtstag von Iván Eröd.\n \n\n \nInterpreten: Alban Beikircher (Violine)\, Leonard Eröd (Fagott)\,\nAnna Maria Pammer (Sopran) und Senka Brankovic (Klavier).\nMit Werken von: Iván Eröd und Kurt Schwertsik.\n\nAm 2. Januar 2016 feierte Iván Eröd seinen 80. Geburtstag. Wie\nkaum ein anderer hat er seit seiner Flucht aus Ungarn im Dezember\n1956 als Pianist\, Komponist und Lehrer das Musikleben in Wien und\nGraz\, aber auch weit darüber hinaus bereichert.\nMit einem Programm\, das diskret auf wesentliche Episoden seiner\nBiographie Bezug nimmt\, möchten die Interpreten – Anna Maria\nPammer\, Senka Brankovic\, Alban Beikircher und nicht zuletzt Eröds\nSohn Leonard – diesen herausragenden Künstler würdigen.\n
URL:http://www.oegm.org/event/portraitkonzert-ivan-eroed/
LOCATION:Hanuschgasse 3\, Wien\, 1010\, Österreich
END:VEVENT
END:VCALENDAR