BEGIN:VCALENDAR
VERSION:2.0
PRODID:-//ÖGM - ECPv4.5.4//NONSGML v1.0//EN
CALSCALE:GREGORIAN
METHOD:PUBLISH
X-WR-CALNAME:ÖGM
X-ORIGINAL-URL:http://www.oegm.org
X-WR-CALDESC:Events for ÖGM
BEGIN:VEVENT
DTSTART;TZID=UTC+1:20160930T093000
DTEND;TZID=UTC+1:20160930T180000
DTSTAMP:20260421T171608
CREATED:20160914T125804Z
LAST-MODIFIED:20161021T170105Z
UID:1796-1475227800-1475258400@www.oegm.org
SUMMARY:SYMPOSION Hanslick im Kontext / Hanslick in Context
DESCRIPTION:Internationale Konferenz organisiert von Dr. Christoph Landerer (Salzburg) und Mag. Alexander Wilfing (Wien).\n\nGemeinsam mit der Österreichischen Akademie der Wissenschaften und unterstützt vom Österreichischen Wissenschaftsfonds (FWF) und Wien Kultur.\n\n \n\nBeiträge von: Gernot Gruber\, Werner Telesko\, Andrea Korenjak\, Nick Zangwill\, Thomas Grey\, Mark Evan Bonds\, Alexander Wilfing\, Christoph Landerer und Lee Rothfarb.\n\n \n\nProgramm und nähere Informationen unter: www.hanslick2016.com und http://www.oeaw.ac.at/ikm/veranstaltungen/veranstaltungsdetails/article/hanslick-im-kontext-1/\n\n \n\n \n\n 
URL:http://www.oegm.org/event/symposion-hanslick-im-kontext/
LOCATION:Hanuschgasse 3\, Wien\, 1010\, Österreich
END:VEVENT
END:VCALENDAR