BEGIN:VCALENDAR
VERSION:2.0
PRODID:-//ÖGM - ECPv4.5.4//NONSGML v1.0//EN
CALSCALE:GREGORIAN
METHOD:PUBLISH
X-WR-CALNAME:ÖGM
X-ORIGINAL-URL:http://www.oegm.org
X-WR-CALDESC:Events for ÖGM
BEGIN:VEVENT
DTSTART;TZID=UTC+1:20170531T100000
DTEND;TZID=UTC+1:20170531T140000
DTSTAMP:20260423T005035
CREATED:20170426T082711Z
LAST-MODIFIED:20170510T094540Z
UID:2050-1496224800-1496239200@www.oegm.org
SUMMARY:SYMPOSION Zentren und Peripherien? Das musikkulturelle Leben in Österreich zwischen 1848 und 1918
DESCRIPTION:Eine Koorporation zwischen dem Haus der Geschichte Österreich und dem Institut für Musikwissenschaft und Interpretationsforschung der Universität für Musik und darstellende Kunst Wien. Mitwirkende: Steven Beller\, Zdravko Blažekovic\, Barbara Boisits\, Christian Glanz\, Ursula Hemetek\, Anita Mayer-Hirzberger\, Johannes Leopold Mayer\, Matej Santi\, Tamara Scheer\, Francesco Toncich\, Fritz Trümpi\, Heidemarie Uhl. Nähere Informationen zum Programm: Programm_Symposion
URL:http://www.oegm.org/event/symposion-zentren-und-peripherien-das-musikkulturelle-leben-in-oesterreich-zwischen-1848-und-1918/
LOCATION:Hanuschgasse 3\, Wien\, 1010\, Österreich
END:VEVENT
END:VCALENDAR