BEGIN:VCALENDAR
VERSION:2.0
PRODID:-//ÖGM - ECPv4.5.4//NONSGML v1.0//EN
CALSCALE:GREGORIAN
METHOD:PUBLISH
X-WR-CALNAME:ÖGM
X-ORIGINAL-URL:http://www.oegm.org
X-WR-CALDESC:Events for ÖGM
BEGIN:VEVENT
DTSTART;TZID=UTC+1:20200429T180000
DTEND;TZID=UTC+1:20200429T200000
DTSTAMP:20260422T122414
CREATED:20200313T085220Z
LAST-MODIFIED:20200427T103340Z
UID:3141-1588183200-1588190400@www.oegm.org
SUMMARY:ABGESAGT: VORTRAG
DESCRIPTION:Ursula Hemetek und Ioannis Christidis\n(Universität für Musik und darstellende Kunst Wien)\n \nEthnomusikologische Minderheitenforschung und ihre soziopolitische Relevanz\nDas „Music and Minorities Research Center (MMRC)“ an der Universität für Musik und darstellende\nKunst Wien\nMit Musikbeispielen.
URL:http://www.oegm.org/event/vortrag-15/
LOCATION:Hanuschgasse 3\, Wien\, 1010\, Österreich
END:VEVENT
END:VCALENDAR