BEGIN:VCALENDAR
VERSION:2.0
PRODID:-//ÖGM - ECPv4.5.4//NONSGML v1.0//EN
CALSCALE:GREGORIAN
METHOD:PUBLISH
X-WR-CALNAME:ÖGM
X-ORIGINAL-URL:http://www.oegm.org
X-WR-CALDESC:Events for ÖGM
BEGIN:VEVENT
DTSTART;TZID=UTC+1:20220426T180000
DTEND;TZID=UTC+1:20220426T193000
DTSTAMP:20260421T171854
CREATED:20220307T151310Z
LAST-MODIFIED:20220307T151310Z
UID:3433-1650996000-1651001400@www.oegm.org
SUMMARY:VORTRAG
DESCRIPTION:Alexander Flor\n(Universität für Musik und darstellende Kunst Wien)\nWie soll man heute Kastratenrepertoire besetzen? Antworten vom Tonträgermarkt \nMit Musikbeispielen.
URL:http://www.oegm.org/event/vortrag-34/
LOCATION:Hanuschgasse 3\, Wien\, 1010\, Österreich
END:VEVENT
END:VCALENDAR