BEGIN:VCALENDAR
VERSION:2.0
PRODID:-//ÖGM - ECPv4.5.4//NONSGML v1.0//EN
CALSCALE:GREGORIAN
METHOD:PUBLISH
X-WR-CALNAME:ÖGM
X-ORIGINAL-URL:http://www.oegm.org
X-WR-CALDESC:Events for ÖGM
BEGIN:VEVENT
DTSTART;TZID=UTC+1:20220628T180000
DTEND;TZID=UTC+1:20220628T193000
DTSTAMP:20260421T115113
CREATED:20220507T201837Z
LAST-MODIFIED:20220507T201837Z
UID:3467-1656439200-1656444600@www.oegm.org
SUMMARY:VORTRAG
DESCRIPTION:ZYKLUS „JUNGE MUSIKWISSENSCHAFT“ \nMilena Amann-Rauter\n(Wien – Chicago)\n„Avec mon arme\, la musique”: Politisches Engagement exilierter Musikerinnen und Musiker im Kontakt des Front Populaire.\nMit Musikbeispielen
URL:http://www.oegm.org/event/vortrag-39/
LOCATION:Hanuschgasse 3\, Wien\, 1010\, Österreich
END:VEVENT
END:VCALENDAR