BEGIN:VCALENDAR
VERSION:2.0
PRODID:-//ÖGM - ECPv4.5.4//NONSGML v1.0//EN
CALSCALE:GREGORIAN
METHOD:PUBLISH
X-WR-CALNAME:ÖGM
X-ORIGINAL-URL:http://www.oegm.org
X-WR-CALDESC:Events for ÖGM
BEGIN:VEVENT
DTSTART;TZID=UTC+1:20231211T180000
DTEND;TZID=UTC+1:20231211T193000
DTSTAMP:20260421T175253
CREATED:20231102T122237Z
LAST-MODIFIED:20231102T122237Z
UID:3674-1702317600-1702323000@www.oegm.org
SUMMARY:VORTRAG
DESCRIPTION:Christian Utz\n(Universität für Musik und darstellende Kunst Graz; Präsident der Internationalen Gustav Mahler Gesellschaft)\n„‚Plastisch greifbare Präsenz´: Raum-zeitliches Klang-Denken bei György Ligeti und seine musikhistorischen Konsequenzen.“ (Zum Ausklang des Ligeti-Jahres 2023).\nMit Musikbeispielen.
URL:http://www.oegm.org/event/vortrag-53/
LOCATION:Hanuschgasse 3\, Wien\, 1010\, Österreich
END:VEVENT
END:VCALENDAR