BEGIN:VCALENDAR
VERSION:2.0
PRODID:-//ÖGM - ECPv4.5.4//NONSGML v1.0//EN
CALSCALE:GREGORIAN
METHOD:PUBLISH
X-WR-CALNAME:ÖGM
X-ORIGINAL-URL:http://www.oegm.org
X-WR-CALDESC:Events for ÖGM
BEGIN:VEVENT
DTSTART;TZID=UTC+1:20240123T180000
DTEND;TZID=UTC+1:20240123T193000
DTSTAMP:20260421T091058
CREATED:20231212T180936Z
LAST-MODIFIED:20231212T181134Z
UID:3692-1706032800-1706038200@www.oegm.org
SUMMARY:VORTRAG
DESCRIPTION:Peter Planyavsky\n(ehem. Domorganist zu St. Stephan; emer. Prof. an der Universität für Musik und darstellende Kunst Wien)\n„J. N. David\, Franz Schmidt\, Anton Heiller und andere: Verwandte Gestaltungselemente.“\n\nMit Musikbeispielen.
URL:http://www.oegm.org/event/vortrag-54/
LOCATION:Hanuschgasse 3\, Wien\, 1010\, Österreich
END:VEVENT
END:VCALENDAR