BEGIN:VCALENDAR
VERSION:2.0
PRODID:-//ÖGM - ECPv4.5.4//NONSGML v1.0//EN
CALSCALE:GREGORIAN
METHOD:PUBLISH
X-WR-CALNAME:ÖGM
X-ORIGINAL-URL:http://www.oegm.org
X-WR-CALDESC:Events for ÖGM
BEGIN:VEVENT
DTSTART;TZID=UTC+1:20240603T180000
DTEND;TZID=UTC+1:20240603T193000
DTSTAMP:20260422T092429
CREATED:20240527T082522Z
LAST-MODIFIED:20240527T082522Z
UID:3763-1717437600-1717443000@www.oegm.org
SUMMARY:Vortrag
DESCRIPTION:Montag\, 3. Juni\, 18:00 Uhr VORTRAG\nChristian Glanz\n(Universität für Musik und darstellende Kunst Wien\, Leiter des Wissenschaftszentrums Gustav Mahler)\nBesonderheiten in Gustav Mahlers Instrumentation.\nMit Bild- und Tonbeispielen.
URL:http://www.oegm.org/event/vortrag-59/
LOCATION:Hanuschgasse 3\, Wien\, 1010\, Österreich
END:VEVENT
END:VCALENDAR