BEGIN:VCALENDAR
VERSION:2.0
PRODID:-//ÖGM - ECPv4.5.4//NONSGML v1.0//EN
CALSCALE:GREGORIAN
METHOD:PUBLISH
X-WR-CALNAME:ÖGM
X-ORIGINAL-URL:http://www.oegm.org
X-WR-CALDESC:Events for ÖGM
BEGIN:VEVENT
DTSTART;TZID=UTC+1:20241017T180000
DTEND;TZID=UTC+1:20241017T193000
DTSTAMP:20260419T224947
CREATED:20240910T191947Z
LAST-MODIFIED:20240925T075641Z
UID:3790-1729188000-1729193400@www.oegm.org
SUMMARY:VORTRAG
DESCRIPTION:Donnerstag\, 17. Oktober\, 18:00 Uhr VORTRAG\nZyklus „Junge Musikwissenschaft“\nAlexander Flor\n(Universität für Musik und darstellende Kunst Wien)\n„Singend protestieren\, entdecken und (v)ermitteln: Überlegungen zur aktuellen Image-Konstruktion\nvon Künstler*innen der Alten Musik.“\nMit Bild- und Tonbeispielen.\n \nWirft man einen Blick auf aktuelle Tonträgerprojekte der Alten Musik\, so genügt es für die dort tätigen Künstler*innen anscheinend nicht\, nur als Musizierende aufzutreten. In den Begleittexten und der graphischen Aufbereitung\, aber auch in der Bewerbung finden sich kunstvoll konstruierte Inszenierungen einer Personalunion\, wie man sie bei Nikolaus Harnoncourt kennen gelernt hat: Instrumentalist*innen spielen nicht nur\, und besonders Sänger*innen singen nicht nur – sie wenden sich gleichzeitig forschend und entdeckend\, vermittelnd und vor allem kritisch gegen überholte Werturteile der Wissenschaft. Der Vortrag zeichnet Inszenierungs- und Werbestrategien am aktuellen Tonträgermarkt nach und stellt anhand aktueller Albumprojekte zum Dramma per musica des frühen 18. Jahrhunderts einige Überlegungen zu den (ehemaligen?) Werthaltungen der Alte-Musik-Bewegung an.
URL:http://www.oegm.org/event/vortrag-62/
LOCATION:Hanuschgasse 3\, Wien\, 1010\, Österreich
END:VEVENT
END:VCALENDAR