BEGIN:VCALENDAR
VERSION:2.0
PRODID:-//ÖGM - ECPv4.5.4//NONSGML v1.0//EN
CALSCALE:GREGORIAN
METHOD:PUBLISH
X-WR-CALNAME:ÖGM
X-ORIGINAL-URL:http://www.oegm.org
X-WR-CALDESC:Events for ÖGM
BEGIN:VEVENT
DTSTART;TZID=UTC+1:20160609T180000
DTEND;TZID=UTC+1:20160609T190000
DTSTAMP:20260421T121207
CREATED:20160425T084328Z
LAST-MODIFIED:20160502T080356Z
UID:1539-1465495200-1465498800@www.oegm.org
SUMMARY:KÜNSTLERPORTRAIT Bienert
DESCRIPTION:Bernd Roger Bienert (Intendant von TEATRO BAROCCO).\n\nDer Regisseur\, Choreograph\, Bühnen- und Kostümbildner im Gespräch mit Carmen Ottner.\n\n(Mit Ausschnitten aus den DVD-Produktionen des TEATRO BAROCCO)
URL:http://www.oegm.org/event/vortrag-bienert/
LOCATION:Hanuschgasse 3\, Wien\, 1010\, Österreich
END:VEVENT
END:VCALENDAR