BEGIN:VCALENDAR
VERSION:2.0
PRODID:-//ÖGM - ECPv4.5.4//NONSGML v1.0//EN
CALSCALE:GREGORIAN
METHOD:PUBLISH
X-WR-CALNAME:ÖGM
X-ORIGINAL-URL:http://www.oegm.org
X-WR-CALDESC:Events for ÖGM
BEGIN:VEVENT
DTSTART;TZID=UTC+1:20170420T180000
DTEND;TZID=UTC+1:20170420T190000
DTSTAMP:20260422T162802
CREATED:20170321T103455Z
LAST-MODIFIED:20170517T084930Z
UID:2038-1492711200-1492714800@www.oegm.org
SUMMARY:VORTRAG Christian Springer
DESCRIPTION:Christian Springer (Wien)\n\nAnlässlich der 150. Wiederkehr des Geburtstags von Arturo Toscanini\n\nMit Ton- und Videobeispielen.
URL:http://www.oegm.org/event/vortrag-christian-springer-3/
LOCATION:Hanuschgasse 3\, Wien\, 1010\, Österreich
END:VEVENT
END:VCALENDAR