BEGIN:VCALENDAR
VERSION:2.0
PRODID:-//ÖGM - ECPv4.5.4//NONSGML v1.0//EN
CALSCALE:GREGORIAN
METHOD:PUBLISH
X-WR-CALNAME:ÖGM
X-ORIGINAL-URL:http://www.oegm.org
X-WR-CALDESC:Events for ÖGM
BEGIN:VEVENT
DTSTART;TZID=UTC+1:20170508T180000
DTEND;TZID=UTC+1:20170508T190000
DTSTAMP:20260422T215501
CREATED:20170426T081849Z
LAST-MODIFIED:20170517T090102Z
UID:2045-1494266400-1494270000@www.oegm.org
SUMMARY:VORTRAG Frieder Reininghaus
DESCRIPTION:Frieder Reininghaus (Herausgeber der "Österreichischen Musikzeitschrift"). Luther\, die Reformation und die Folgen für die Musik. Mit Musikbeispielen.
URL:http://www.oegm.org/event/vortrag-frieder-reininghaus/
LOCATION:Hanuschgasse 3\, Wien\, 1010\, Österreich
END:VEVENT
END:VCALENDAR