BEGIN:VCALENDAR
VERSION:2.0
PRODID:-//ÖGM - ECPv4.5.4//NONSGML v1.0//EN
CALSCALE:GREGORIAN
METHOD:PUBLISH
X-WR-CALNAME:ÖGM
X-ORIGINAL-URL:http://www.oegm.org
X-WR-CALDESC:Events for ÖGM
BEGIN:VEVENT
DTSTART;TZID=UTC+1:20241210T180000
DTEND;TZID=UTC+1:20241210T193000
DTSTAMP:20260421T124314
CREATED:20241119T162055Z
LAST-MODIFIED:20241119T162055Z
UID:3848-1733853600-1733859000@www.oegm.org
SUMMARY:VORTRAG und BUCHPRÄSENTATION
DESCRIPTION: VORTRAG und BUCHPRÄSENTATION\nSeverin Matiasovits\n(Archiv der Universität für Musik und darstellende Kunst Wien)\n„Kunst\, Politik und ein gescheitertes Experiment. 100 Jahre Gründung der Wiener Fachhochschule\nfür Musik und darstellende Kunst.“\nSiehe dazu die Publikation: „Geschichte eines gescheiterten Experiments. 100 Jahre Wiener\nFachhochschule für Musik und darstellende Kunst (1924-1931)“. Hollitzer Verlag\, Wien 2024.\nMit Bildbeispielen.
URL:http://www.oegm.org/event/vortrag-und-buchpraesentation/
LOCATION:Hanuschgasse 3\, Wien\, 1010\, Österreich
END:VEVENT
END:VCALENDAR