BEGIN:VCALENDAR
VERSION:2.0
PRODID:-//ÖGM - ECPv4.5.4//NONSGML v1.0//EN
CALSCALE:GREGORIAN
METHOD:PUBLISH
X-WR-CALNAME:ÖGM
X-ORIGINAL-URL:https://www.oegm.org
X-WR-CALDESC:Events for ÖGM
BEGIN:VEVENT
DTSTART;TZID=UTC+1:20250303T180000
DTEND;TZID=UTC+1:20250303T193000
DTSTAMP:20260422T190256
CREATED:20250124T173615Z
LAST-MODIFIED:20250124T173615Z
UID:3882-1741024800-1741030200@www.oegm.org
SUMMARY:BUCHPRÄSENTATION
DESCRIPTION:Walburga Litschauer\n(u.a. ehem. Präsidentin der „Österreichischen Gesellschaft für Musik“\nund des „Carinthischen Sommers“)\n„Frau Dr. Schubert. Erinnerungen.“\nVerlag Johannes Heyn 2024.\n\nDie Autorin im Gespräch mit Carmen Ottner.\nMusikalische Umrahmung durch das Klavierduo Egri & Pertis.
URL:https://www.oegm.org/event/buchpraesentation-16/
LOCATION:Hanuschgasse 3\, Wien\, 1010\, Österreich
END:VEVENT
END:VCALENDAR