BEGIN:VCALENDAR
VERSION:2.0
PRODID:-//ÖGM - ECPv4.5.4//NONSGML v1.0//EN
CALSCALE:GREGORIAN
METHOD:PUBLISH
X-WR-CALNAME:ÖGM
X-ORIGINAL-URL:https://www.oegm.org
X-WR-CALDESC:Events for ÖGM
BEGIN:VEVENT
DTSTART;TZID=UTC+1:20250321T180000
DTEND;TZID=UTC+1:20250321T193000
DTSTAMP:20260422T151230
CREATED:20250124T174149Z
LAST-MODIFIED:20250124T174149Z
UID:3886-1742580000-1742585400@www.oegm.org
SUMMARY:BUCHPRÄSENTATION
DESCRIPTION:Ralf Eisinger\n(München)\nHg. (gem. mit Mana Akatsuka und Thomas Pekar)\n„Musik ist mein Leben. Joseph Rosenstock – Erinnerungen.“\nVerlag: OAG Deutsche Gesellschaft für Natur- und Völkerkunde Ostasiens 2024.\n\nModeration: Irene Suchy.\nMit Bild- und Tonbeispielen.
URL:https://www.oegm.org/event/buchpraesentation-17/
LOCATION:Hanuschgasse 3\, Wien\, 1010\, Österreich
CATEGORIES:ÖGM Events
END:VEVENT
END:VCALENDAR