BEGIN:VCALENDAR
VERSION:2.0
PRODID:-//ÖGM - ECPv4.5.4//NONSGML v1.0//EN
CALSCALE:GREGORIAN
METHOD:PUBLISH
X-WR-CALNAME:ÖGM
X-ORIGINAL-URL:https://www.oegm.org
X-WR-CALDESC:Events for ÖGM
BEGIN:VEVENT
DTSTART;TZID=UTC+1:20250423T180000
DTEND;TZID=UTC+1:20250423T193000
DTSTAMP:20260422T193152
CREATED:20250320T151743Z
LAST-MODIFIED:20250320T151909Z
UID:3901-1745431200-1745436600@www.oegm.org
SUMMARY:CD-PRÄSENTATION
DESCRIPTION:Rémy Ballot (Dirigent) und Dominik Šedivý (wiss.\, künstler. Leiter des Richard-Strauss-Instituts und der Richard-Strauss-Tage in Garmisch) im Gespräch.\nRichard Strauss: „Don Juan“ und „Ein Heldenleben“.\nMit dem Pilsner Philharmonischen Orchester.\n(Richard-Strauss-Tage\, Garmisch 2024; Gramola)\nModeration: Peter Kislinger.\nMit Musikbeispielen.
URL:https://www.oegm.org/event/cd-praesentation-7/
LOCATION:Hanuschgasse 3\, Wien\, 1010\, Österreich
CATEGORIES:ÖGM Events
END:VEVENT
END:VCALENDAR