BEGIN:VCALENDAR
VERSION:2.0
PRODID:-//ÖGM - ECPv4.5.4//NONSGML v1.0//EN
CALSCALE:GREGORIAN
METHOD:PUBLISH
X-WR-CALNAME:ÖGM
X-ORIGINAL-URL:https://www.oegm.org
X-WR-CALDESC:Events for ÖGM
BEGIN:VEVENT
DTSTART;TZID=UTC+1:20250305T180000
DTEND;TZID=UTC+1:20250305T193000
DTSTAMP:20260422T163833
CREATED:20250124T173828Z
LAST-MODIFIED:20250124T173828Z
UID:3884-1741197600-1741203000@www.oegm.org
SUMMARY:CD-PRÄSENTATION\, VORTRAG und KÜNSTLERGESPRÄCH
DESCRIPTION:Malte Müller\, Tenor; Werner Heinrich Schmitt\, Klavier\nWilhelm Kienzl: Vier Liederzyklen op. 11\, 24\, 44\, 82.\n(Toccata Classics\, London 2024).\n\nEinführungsvortrag und Moderation: Carmen Ottner.\nMalte Müller wird einzelne Lieder live singen\, begleitet von Silke Winkler.
URL:https://www.oegm.org/event/cd-praesentation-vortrag-und-kuenstlergespraech/
LOCATION:Hanuschgasse 3\, Wien\, 1010\, Österreich
CATEGORIES:ÖGM Events
END:VEVENT
END:VCALENDAR